BEGIN:VCALENDAR
VERSION:2.0
PRODID:-//Société culturelle régionale Népisiguit - ECPv6.15.17.1//NONSGML v1.0//EN
CALSCALE:GREGORIAN
METHOD:PUBLISH
X-WR-CALNAME:Société culturelle régionale Népisiguit
X-ORIGINAL-URL:https://scrn.ca
X-WR-CALDESC:Évènements pour Société culturelle régionale Népisiguit
REFRESH-INTERVAL;VALUE=DURATION:PT1H
X-Robots-Tag:noindex
X-PUBLISHED-TTL:PT1H
BEGIN:VTIMEZONE
TZID:America/Moncton
BEGIN:DAYLIGHT
TZOFFSETFROM:-0400
TZOFFSETTO:-0300
TZNAME:ADT
DTSTART:20250309T060000
END:DAYLIGHT
BEGIN:STANDARD
TZOFFSETFROM:-0300
TZOFFSETTO:-0400
TZNAME:AST
DTSTART:20251102T050000
END:STANDARD
BEGIN:DAYLIGHT
TZOFFSETFROM:-0400
TZOFFSETTO:-0300
TZNAME:ADT
DTSTART:20260308T060000
END:DAYLIGHT
BEGIN:STANDARD
TZOFFSETFROM:-0300
TZOFFSETTO:-0400
TZNAME:AST
DTSTART:20261101T050000
END:STANDARD
BEGIN:DAYLIGHT
TZOFFSETFROM:-0400
TZOFFSETTO:-0300
TZNAME:ADT
DTSTART:20270314T060000
END:DAYLIGHT
BEGIN:STANDARD
TZOFFSETFROM:-0300
TZOFFSETTO:-0400
TZNAME:AST
DTSTART:20271107T050000
END:STANDARD
END:VTIMEZONE
BEGIN:VEVENT
DTSTART;TZID=America/Moncton:20261125T200000
DTEND;TZID=America/Moncton:20261125T213000
DTSTAMP:20260421T112449
CREATED:20251202T172112Z
LAST-MODIFIED:20251202T172112Z
UID:1559-1795636800-1795642200@scrn.ca
SUMMARY:Yves Lambert - 50 ans\, de la Bottine à aujourd'hui!
DESCRIPTION:25 novembre 2026 : 20h00 \nBillets : 45$ \nPour souligner ses 50 ans de carrière\, Yves Lambert vous offre un spectacle généreux et festif qui explore son grand répertoire qu’il a bâti depuis ses tout débuts avec la Bottine Souriante jusqu’à aujourd’hui. \nPour l’occasion\, il sera accompagné sur scène de son Grand Orchestre composé de 7 musiciennes et musiciens\, Paul Audy (guitare\, voix) Robin Boulianne (violon\, mandoline\, podorythmie\, voix) Mathieu Royer (contrebasse)\, Geneviève St-Pierre (clavier) et une section de vent remplie de chaleur avec Mélanie Bourassa (clarinette basse et clarinette)\, Mary Chalk (basson) et Gabriel Schwartz (saxophone\, flûte traversière\, piccolo et percussion). \nAvec une orchestration qui tend vers de nouvelles avenues harmoniques et rythmiques\, Lambert présente ces titres les plus connus tels que La ziguezon\, La cuisinière et Dans nos vieilles maisons ainsi que plusieurs chansons qui ont façonné son parcours empreint de textures sonores affirmant toujours sa « québécitude » passionnée\, ouverte et créative! \n« Je suis un amoureux de l’harmonie\, de la musicalité\, peu importe le style de musique\, et présentement\, j’ai des musiciens qui sont vraiment des virtuoses. Malgré que j’ai un tempérament de rocker\, même en faisant du folklore\, on sent de la sensibilité. C’est fluide\, c’est beau\, c’est audacieux\, ça a toutes les qualités. » \n– Yves Lambert
URL:https://scrn.ca/event/yves-lambert-50-ans-de-la-bottine-a-aujourdhui/
LOCATION:Salle Richelieu – École secondaire Népisiguit\, 915 St Anne St\,\, Bathurst\, Nouveau-Brunswick\, E2A 6X1\, Canada
ATTACH;FMTTYPE=image/jpeg:https://scrn.ca/wp-content/uploads/2025/12/PhotoYvesLambert_Grandorchestre_A-scaled.jpg
END:VEVENT
END:VCALENDAR