BEGIN:VCALENDAR
VERSION:2.0
PRODID:-//Société culturelle régionale Népisiguit - ECPv6.15.17.1//NONSGML v1.0//EN
CALSCALE:GREGORIAN
METHOD:PUBLISH
X-WR-CALNAME:Société culturelle régionale Népisiguit
X-ORIGINAL-URL:https://scrn.ca
X-WR-CALDESC:Évènements pour Société culturelle régionale Népisiguit
REFRESH-INTERVAL;VALUE=DURATION:PT1H
X-Robots-Tag:noindex
X-PUBLISHED-TTL:PT1H
BEGIN:VTIMEZONE
TZID:America/Moncton
BEGIN:DAYLIGHT
TZOFFSETFROM:-0400
TZOFFSETTO:-0300
TZNAME:ADT
DTSTART:20250309T060000
END:DAYLIGHT
BEGIN:STANDARD
TZOFFSETFROM:-0300
TZOFFSETTO:-0400
TZNAME:AST
DTSTART:20251102T050000
END:STANDARD
BEGIN:DAYLIGHT
TZOFFSETFROM:-0400
TZOFFSETTO:-0300
TZNAME:ADT
DTSTART:20260308T060000
END:DAYLIGHT
BEGIN:STANDARD
TZOFFSETFROM:-0300
TZOFFSETTO:-0400
TZNAME:AST
DTSTART:20261101T050000
END:STANDARD
BEGIN:DAYLIGHT
TZOFFSETFROM:-0400
TZOFFSETTO:-0300
TZNAME:ADT
DTSTART:20270314T060000
END:DAYLIGHT
BEGIN:STANDARD
TZOFFSETFROM:-0300
TZOFFSETTO:-0400
TZNAME:AST
DTSTART:20271107T050000
END:STANDARD
END:VTIMEZONE
BEGIN:VEVENT
DTSTART;TZID=America/Moncton:20260407T190000
DTEND;TZID=America/Moncton:20260407T203000
DTSTAMP:20260420T014342
CREATED:20260113T192408Z
LAST-MODIFIED:20260113T192538Z
UID:1564-1775588400-1775593800@scrn.ca
SUMMARY:Ella - L'Histoire de Cendrillon
DESCRIPTION:Mardi 7 avril 2026 : 19h00 \nBillets : 40$ adulte\, 30$ étudiants \nElla – L’Histoire de Cendrillonsuit le parcours d’Ella\, une jeune femme qui surmonte l’adversité et trouve sa force\nintérieure grâce au pouvoir transformateur de la gentillesse et de la résilience. Vivant avec une famille injuste et\noppressive\, elle rêve d’échapper à sa vie quotidienne sordide. Jusqu’à ce qu’un jour\, sa chance change et sa bienveillance envers tout ce qui l’entoure soit récompensée. \n13 danseurs de la compagnie BO Montréal\, accompagnés de jeunes élèves en danse de la région\, évoluent au coeur d’un univers féérique sublimé par des interactions multimédia\, pour une expérience véritablement enchanteresse.
URL:https://scrn.ca/event/ella-lhistoire-de-cendrillon/
LOCATION:Salle Richelieu – École secondaire Népisiguit\, 915 St Anne St\,\, Bathurst\, Nouveau-Brunswick\, E2A 6X1\, Canada
ATTACH;FMTTYPE=image/jpeg:https://scrn.ca/wp-content/uploads/2026/01/BO_ELLA_2_photo-Michael-Slobodian.jpeg
END:VEVENT
END:VCALENDAR